BEGIN:VCALENDAR
VERSION:2.0
PRODID:-//Tukios.com/
BEGIN:VEVENT
UID:74ef917f-13ff-44e2-abb6-35e78ad29f7c@www.trinityfuneralservices.net
DTSTAMP:20260422T231912Z
DTSTART:20260427T183000Z
DTEND:20260427T193000Z
SUMMARY:Burial
DESCRIPTION:
URL:https://www.trinityfuneralservices.net/obituaries/mavie-scott
LOCATION:Ladner Hill Family Cemetery 1650 Bell Creek Road  Pass Christian 
	MS 39571
GEO:30.5130448;-89.3475364
END:VEVENT
END:VCALENDAR