BEGIN:VCALENDAR
VERSION:2.0
PRODID:-//Tukios.com/
BEGIN:VEVENT
UID:20922a20-9527-48e1-84a0-7e9e5195b4db@www.trinityfuneralservices.net
DTSTAMP:20260422T231959Z
DTSTART:20260427T170000Z
DTEND:20260427T180000Z
SUMMARY:Funeral Service
DESCRIPTION:
URL:https://www.trinityfuneralservices.net/obituaries/mavie-scott
LOCATION: 319 US 49  McHenry MS 39561
GEO:30.7004507;-89.1358564
END:VEVENT
END:VCALENDAR