BEGIN:VCALENDAR
VERSION:2.0
PRODID:-//Tukios.com/
BEGIN:VEVENT
UID:374dade3-f274-46a1-9a68-0e46b6c0b3fa@www.trinityfuneralservices.net
DTSTAMP:20260422T231622Z
DTSTART:20260427T150000Z
DTEND:20260427T170000Z
SUMMARY:Visitation
DESCRIPTION:
URL:https://www.trinityfuneralservices.net/obituaries/mavie-scott
LOCATION: 319 US 49  McHenry MS 39561
GEO:30.7004507;-89.1358564
END:VEVENT
END:VCALENDAR