BEGIN:VCALENDAR
VERSION:2.0
PRODID:-//Tukios.com/
BEGIN:VEVENT
UID:2ff63b49-0582-4e86-bf30-c970444fe75b@www.trinityfuneralservices.net
DTSTAMP:20260424T191513Z
DTSTART:20260428T193000Z
DTEND:20260428T194500Z
SUMMARY:Memorial Service
DESCRIPTION:
URL:https://www.trinityfuneralservices.net/obituaries/louis-paxton-iii
LOCATION: 400 Veterans Ave.  Biloxi MS 39531
GEO:30.4148783;-88.9450439
END:VEVENT
END:VCALENDAR