BEGIN:VCALENDAR
VERSION:2.0
PRODID:-//Tukios.com/
BEGIN:VEVENT
UID:4f43d36f-efce-42c6-8cbd-26ac7aaff03f@www.trinityfuneralservices.net
DTSTAMP:20260423T010543Z
DTSTART:20260424T203000Z
DTEND:20260424T213000Z
SUMMARY:Graveside Service
DESCRIPTION:
URL:https://www.trinityfuneralservices.net/obituaries/leslie-kennard
LOCATION: 2689 Wire Road East 2689 Wire Road East Perkinston MS 39573
GEO:30.7296968;-88.9193327
END:VEVENT
END:VCALENDAR