BEGIN:VCALENDAR
VERSION:2.0
PRODID:-//Tukios.com/
BEGIN:VEVENT
UID:c6a950c6-0089-41a0-ba3b-84e9cce9f6e4@www.trinityfuneralservices.net
DTSTAMP:20260423T010502Z
DTSTART:20260424T193000Z
DTEND:20260424T203000Z
SUMMARY:Funeral Service
DESCRIPTION:
URL:https://www.trinityfuneralservices.net/obituaries/leslie-kennard
LOCATION: 2689 Wire Road East 2689 Wire Road East Perkinston MS 39573
GEO:30.7296968;-88.9193327
END:VEVENT
END:VCALENDAR