BEGIN:VCALENDAR
VERSION:2.0
PRODID:-//Tukios.com/
BEGIN:VEVENT
UID:3db8c80c-f07b-4883-a224-5ad0a414fbb6@www.trinityfuneralservices.net
DTSTAMP:20260423T010457Z
DTSTART:20260424T183000Z
DTEND:20260424T193000Z
SUMMARY:Visitation
DESCRIPTION:
URL:https://www.trinityfuneralservices.net/obituaries/leslie-kennard
LOCATION:Little Creek Baptist Church 2689 Wire Road East 2689 Wire Road 
	East Perkinston MS 39573
GEO:30.7296968;-88.9193327
END:VEVENT
END:VCALENDAR