BEGIN:VCALENDAR
VERSION:2.0
PRODID:-//Tukios.com/
BEGIN:VEVENT
UID:4ade5171-7ed2-4914-a8fe-adaa1e6a616f@www.trinityfuneralservices.net
DTSTAMP:20260420T191620Z
DTSTART:20260425T174500Z
DTEND:20260425T180000Z
SUMMARY:Burial
DESCRIPTION:
URL:https://www.trinityfuneralservices.net/obituaries/dorothy-ladner
LOCATION:  Barth Road  Poplarville MS 39470
GEO:30.6685933;-89.3800657
END:VEVENT
END:VCALENDAR