BEGIN:VCALENDAR
VERSION:2.0
PRODID:-//Tukios.com/
BEGIN:VEVENT
UID:0d5db452-95ce-45ee-9230-6d9f0c5cc98b@www.trinityfuneralservices.net
DTSTAMP:20260420T192025Z
DTSTART:20260425T170000Z
DTEND:20260425T173000Z
SUMMARY:Funeral Service
DESCRIPTION:
URL:https://www.trinityfuneralservices.net/obituaries/dorothy-ladner
LOCATION: 2336 Mississippi 53  Poplarville MS 39470
GEO:30.6713372;-89.431325
END:VEVENT
END:VCALENDAR