BEGIN:VCALENDAR
VERSION:2.0
PRODID:-//Tukios.com/
BEGIN:VEVENT
UID:11f95735-1954-4385-a34b-4c0cb6de3ba4@www.trinityfuneralservices.net
DTSTAMP:20260420T192019Z
DTSTART:20260425T150000Z
DTEND:20260425T170000Z
SUMMARY:Visitation
DESCRIPTION:
URL:https://www.trinityfuneralservices.net/obituaries/dorothy-ladner
LOCATION: 2336 Mississippi 53  Poplarville MS 39470
GEO:30.6713372;-89.431325
END:VEVENT
END:VCALENDAR